Workbook
Name aa: #REF!
Name aa: #REF!
Name aa: #REF!
Name aa: #REF!
Name aa: #REF!
Name aa: #REF!
Name adasda: #REF!
Name adasda: #REF!
Name adasda: #REF!
Name adasda: #REF!
Name adasda: #REF!
Name adasda: #REF!
Name BDI: #REF!
Name BDI: #REF!
Name BDI: #REF!
Name BDI: #REF!
Name BDI: [1]Desoneração!#REF!
Name BDI: #REF!
Name BDI: [1]Desoneração!#REF!
Name ISS: #REF!
Name PageMaker: #REF!
Name Print_Area: 'AA AT HORAS'!$D$1:$M$42
Name Print_Area: 'Cálculo Cobertura'!$A$2:$Q$10
Name Print_Area: Planilha_Custos!$A$1:$V$39
Name Qtd_Dias: #REF!
Name Qtd_Dias: #REF!
Name Qtd_Dias: #REF!
Name Qtd_Dias: '[2]HORAS,VT,VA'!#REF!
Name Qtd_Dias: '[1]HORAS,VT,VA,CAFÉ'!$B$19
Name Qtd_Dias: #REF!
Name Qtd_Dias: '[1]HORAS,VT,VA,CAFÉ'!$B$19

Sheet Planilha_Custos
A2: PLANILHA ESTIMATIVA DE CUSTOS - vigência de 01/10/2022 a 30/09/2023
A3: Posto de Trabalho | B3: Tipo do posto de trabalho Localização e Horários | D3: Convenção Coletiva de Trabalho vigência Data-base | E3: Jornada de Trabalho | F3: MONTANTE "A" | M3: MONTANTE 'B' | P3: Somatório Montantes "A" e "B" (R$) | Q3: CITL Calculado sobre o somatório dos Montantes "A" e "B" | R3: Total unitário mensal do posto de trabalho (R$) | S3: Total unitário do posto de trabalho (R$) | T3: Quantidade de profissionais por posto de trabalho | U3: Total mensal estimado da Contratação (R$) | V3: Total estimado da contratação para o período de 12 meses (R$)
F4: Salário (R$) | G4: Adicional de Periculosidade (R$) | H4: Adicional Noturno (R$) | I4: Indenização Intrajornada | J4: Remuneração (R$) | K4: Encargos Sociais (R$) | L4: Total unitário montante "A" (R$) | M4: Valor mensal estimado do auxílio alimentação (R$) | N4: Valor mensal do vale transporte | O4: Total unitário montante "B" | U4: Previsão Mensal Inicial | V4: Previsão Mensal Total
S6: 12
G7: 0.3 | K7: ='Encargos Sociais'!D36 -> 0.71695 | Q7: ='Encargos Sociais'!J14 -> 0.22988506 | S7: meses
A8: Vigilância CBO 5173-30 | B8: 12x36hs Armada | C8: Diurno | D8: SINDESP-DF x SINDESV-DF 01/01/2022/31/12/2022 01/janeiro | E8: 12x36hs | F8: 2450.39 | G8: =ROUNDUP(F8*G$7,2) -> 735.12 | H8: 0 | I8: 0 | J8: =F8+G8+H8+I8 -> 3185.51 | K8: =J8*$K$7 -> 2283.8514 | L8: =SUM(J8:K8) -> 5469.3614 | M8: ='AA AT HORAS'!T$13 -> 633.6239 | N8: ='AA AT HORAS'!M$39 -> 19.809933 | O8: =SUM(M8:N8) -> 653.43383 | P8: =L8+O8 -> 6122.7952 | Q8: =P8*$Q$7 -> 1407.5391 | R8: =P8+Q8 -> 7530.3344 | S8: =R8*$S$6 -> 90364.012 | T8: 22 | U8: =T8*R8 -> 165667.36 | V8: =U8*$S$6 -> 1988008.3
C9: Diurno Anexo III | F9: 2450.39 | G9: =ROUNDUP(F9*G$7,2) -> 735.12 | H9: 0 | I9: ='AA AT HORAS'!U53 -> 262.65 | J9: =F9+G9+H9+I9 -> 3448.16 | K9: =J9*$K$7 -> 2472.1583 | L9: =SUM(J9:K9) -> 5920.3183 | M9: ='AA AT HORAS'!T$13 -> 633.6239 | N9: ='AA AT HORAS'!M$39 -> 19.809933 | O9: =SUM(M9:N9) -> 653.43383 | P9: =L9+O9 -> 6573.7521 | Q9: =P9*$Q$7 -> 1511.2074 | R9: =P9+Q9 -> 8084.9595 | S9: =R9*$S$6 -> 97019.514 | T9: 6 | U9: =T9*R9 -> 48509.757 | V9: =U9*$S$6 -> 582117.09
C10: Noturno Anexo III | F10: 2450.39 | G10: =ROUNDUP(F10*G$7,2) -> 735.12 | H10: ='AA AT HORAS'!U48 -> 347.51018 | I10: ='AA AT HORAS'!U54 -> 291.3 | J10: =F10+G10+H10+I10 -> 3824.3202 | K10: =J10*$K$7 -> 2741.8464 | L10: =SUM(J10:K10) -> 6566.1665 | M10: ='AA AT HORAS'!T$13 -> 633.6239 | N10: ='AA AT HORAS'!M$39 -> 19.809933 | O10: =SUM(M10:N10) -> 653.43383 | P10: =L10+O10 -> 7219.6004 | Q10: =P10*$Q$7 -> 1659.6782 | R10: =P10+Q10 -> 8879.2786 | S10: =R10*$S$6 -> 106551.34 | T10: 6 | U10: =T10*R10 -> 53275.672 | V10: =U10*$S$6 -> 639308.06
C11: Noturno | F11: 2450.39 | G11: =ROUNDUP(F11*G$7,2) -> 735.12 | H11: ='AA AT HORAS'!U48 -> 347.51018 | I11: 0 | J11: =F11+G11+H11+I11 -> 3533.0202 | K11: =J11*$K$7 -> 2532.9988 | L11: =SUM(J11:K11) -> 6066.019 | M11: ='AA AT HORAS'!T$13 -> 633.6239 | N11: ='AA AT HORAS'!M$39 -> 19.809933 | O11: =SUM(M11:N11) -> 653.43383 | P11: =L11+O11 -> 6719.4528 | Q11: =P11*$Q$7 -> 1544.7018 | R11: =P11+Q11 -> 8264.1546 | S11: =R11*$S$6 -> 99169.856 | T11: 22 | U11: =T11*R11 -> 181811.4 | V11: =U11*$S$6 -> 2181736.8
B12: 12x36hs Desarmada | C12: Diurno | F12: 2450.39 | G12: =ROUNDUP(F12*G$7,2) -> 735.12 | H12: 0 | I12: 0 | J12: =F12+G12+H12+I12 -> 3185.51 | K12: =J12*$K$7 -> 2283.8514 | L12: =SUM(J12:K12) -> 5469.3614 | M12: ='AA AT HORAS'!T$13 -> 633.6239 | N12: ='AA AT HORAS'!M$39 -> 19.809933 | O12: =SUM(M12:N12) -> 653.43383 | P12: =L12+O12 -> 6122.7952 | Q12: =P12*$Q$7 -> 1407.5391 | R12: =P12+Q12 -> 7530.3344 | S12: =R12*$S$6 -> 90364.012 | T12: 32 | U12: =T12*R12 -> 240970.7 | V12: =U12*$S$6 -> 2891648.4
C13: Noturno | F13: 2450.39 | G13: =ROUNDUP(F13*G$7,2) -> 735.12 | H13: ='AA AT HORAS'!U48 -> 347.51018 | I13: 0 | J13: =F13+G13+H13+I13 -> 3533.0202 | K13: =J13*$K$7 -> 2532.9988 | L13: =SUM(J13:K13) -> 6066.019 | M13: ='AA AT HORAS'!T$13 -> 633.6239 | N13: ='AA AT HORAS'!M$39 -> 19.809933 | O13: =SUM(M13:N13) -> 653.43383 | P13: =L13+O13 -> 6719.4528 | Q13: =P13*$Q$7 -> 1544.7018 | R13: =P13+Q13 -> 8264.1546 | S13: =R13*$S$6 -> 99169.856 | T13: 16 | U13: =T13*R13 -> 132226.47 | V13: =U13*$S$6 -> 1586717.7
B14: 44hs semanais Armada | C14: Diurno | E14: 44hs | F14: 2450.39 | G14: =ROUNDUP(F14*G$7,2) -> 735.12 | H14: 0 | I14: 0 | J14: =F14+G14+H14+I14 -> 3185.51 | K14: =J14*$K$7 -> 2283.8514 | L14: =SUM(J14:K14) -> 5469.3614 | M14: ='AA AT HORAS'!T14 -> 849.4738 | N14: ='AA AT HORAS'!M$40 -> 76.643267 | O14: =SUM(M14:N14) -> 926.11707 | P14: =L14+O14 -> 6395.4785 | Q14: =P14*$Q$7 -> 1470.2249 | R14: =P14+Q14 -> 7865.7034 | S14: =R14*$S$6 -> 94388.441 | T14: 3 | U14: =T14*R14 -> 23597.11 | V14: =U14*$S$6 -> 283165.32
B15: 44hs semanais Desarmada | C15: Diurno | F15: 2450.39 | G15: =ROUNDUP(F15*G$7,2) -> 735.12 | H15: 0 | I15: 0 | J15: =F15+G15+H15+I15 -> 3185.51 | K15: =J15*$K$7 -> 2283.8514 | L15: =SUM(J15:K15) -> 5469.3614 | M15: ='AA AT HORAS'!T14 -> 849.4738 | N15: ='AA AT HORAS'!M$40 -> 76.643267 | O15: =SUM(M15:N15) -> 926.11707 | P15: =L15+O15 -> 6395.4785 | Q15: =P15*$Q$7 -> 1470.2249 | R15: =P15+Q15 -> 7865.7034 | S15: =R15*$S$6 -> 94388.441 | T15: 50 | U15: =T15*R15 -> 393285.17 | V15: =U15*$S$6 -> 4719422
B16: Supervisão 12x36hs | C16: Diurno | E16: 12x36hs | F16: 2939.18 | G16: =ROUNDUP(F16*G$7,2) -> 881.76 | H16: 0 | I16: ='AA AT HORAS'!U55 -> 315 | J16: =F16+G16+H16+I16 -> 4135.94 | K16: =J16*$K$7 -> 2965.2622 | L16: =SUM(J16:K16) -> 7101.2022 | M16: ='AA AT HORAS'!T15 -> 633.6239 | N16: ='AA AT HORAS'!M41 -> 0 | O16: =SUM(M16:N16) -> 633.6239 | P16: =L16+O16 -> 7734.8261 | Q16: =P16*$Q$7 -> 1778.1209 | R16: =P16+Q16 -> 9512.947 | S16: =R16*$S$6 -> 114155.36 | T16: 2 | U16: =T16*R16 -> 19025.894 | V16: =U16*$S$6 -> 228310.73
C17: Noturno | F17: 2939.18 | G17: =ROUNDUP(F17*G$7,2) -> 881.76 | H17: ='AA AT HORAS'!U49 -> 416.82982 | I17: ='AA AT HORAS'!U56 -> 349.35 | J17: =F17+G17+H17+I17 -> 4587.1198 | K17: =J17*$K$7 -> 3288.7356 | L17: =SUM(J17:K17) -> 7875.8554 | M17: ='AA AT HORAS'!T15 -> 633.6239 | N17: ='AA AT HORAS'!M41 -> 0 | O17: =SUM(M17:N17) -> 633.6239 | P17: =L17+O17 -> 8509.4793 | Q17: =P17*$Q$7 -> 1956.2021 | R17: =P17+Q17 -> 10465.681 | S17: =R17*$S$6 -> 125588.18 | T17: 2 | U17: =T17*R17 -> 20931.363 | V17: =U17*$S$6 -> 251176.35
A18: Subtotal 1 | L18: =SUM(L8:L17) -> 61473.026 | O18: =SUM(O8:O17) -> 7040.0849 | P18: =SUM(P8:P17) -> 68513.111 | T18: =SUM(T8:T17) -> 161 | U18: =SUM(U8:U17) -> 1279300.9 | V18: =U18*S6 -> 15351611
A19: I - UNIFORMES MASCULINOS E FENIMINOS - RESSARCIMENTO (Valor máximo admitido - pode ser alterado pela licitante, fazendo constar sempre o de maior valor entre o feminino e o masculino) | S19: Valor unit. Masculino | T19: Valor unit. Feminino | U19: Valor Mensal | V19: Valor anual
S20: ='Anx II-B Uniformes'!G12/Planilha_Custos!T18 -> 3540 | T20: ='Anx II-B Uniformes'!G21/Planilha_Custos!T18 -> 3230 | U20: =(S20*T18)/S6 -> 47495 | V20: =U20*S6 -> 569940
A21: II - UNIFORME OPERACIONAL - RESSARCIMENTO (Valor máximo admitido - pode ser alterado pela licitante) | T21: Valor unitário | U21: Valor Mensal | V21: Valor anual
T22: ='Anx II-B Uniformes'!F33 -> 2934 | U22: =V22/S6 -> 39364.5 | V22: ='Anx II-B Uniformes'!G33 -> 472374
A23: III - MATERIAIS E EQUIPAMENTOS - RESSARCIMENTO (Valor máximo admitido - pode ser alterado pela licitante) | U23: Valor Mensal | V23: Valor anual
U24: =V24/S6 -> 2445.4825 | V24: ='Anx II-C Mat.Equip'!G13 -> 29345.79
A25: IV - EQUIPAMENTOS E MATERIAIS - DEPRECIÁVEIS (Valor máximo admitido - pode ser alterado pela licitante) | U25: Valor Mensal | V25: Valor anual
U26: =V26/S6 -> 10231.563 | V26: ='Anx II-D Equipamentos'!I13 -> 122778.76
A27: V - FUNDO PARA INDENIZAÇÃO DECORRENTE DE APOSENTADORIA POR INVALIDEZ / DOENÇA DE QUALQUER NATUREZA - Ressarcimento - (Previsto na CCT, só poderá ser alterado pelo licitante em caso de adoção de outra CCT) | S27: Quantidade | T27: Valor unitário | U27: Valor Mensal | V27: Valor anual
S28: =T18 -> 161 | T28: 15.19 | U28: =S28*T28 -> 2445.59 | V28: =U28*S6 -> 29347.08
A29: VI - AUXÍLIO SAÚDE - Ressarcimento - (Previsto na CCT, só poderá ser alterado pelo licitante em caso de adoção de outra CCT) | S29: Quantidade | T29: Valor unitário | U29: Valor Mensal | V29: Valor anual
S30: =T18 -> 161 | T30: 151.9 | U30: =T30*S30 -> 24455.9 | V30: =U30*S6 -> 293470.8
A31: VII - FUNDO SOCIAL E ODONTOLÓGICO (R$ 8,68 para o plano odontológico e R$ 1,08 para o fundo social) - Ressarcimento - (Previsto na CCT, só poderá ser alterado pelo licitante em caso de adoção de outra CCT) | S31: Quantidade | T31: Valor unitário | U31: Valor Mensal | V31: Valor anual
S32: =T18 -> 161 | T32: 9.76 | U32: =T32*S32 -> 1571.36 | V32: =U32*S6 -> 18856.32
A33: VIII - SEGURO DE VIDA - RESSARCIMENTO (poderá ser alterado pelo licitante em caso de contratação de apólice de menor valor) | S33: Quantidade | T33: Valor unitário | U33: Valor Mensal | V33: Valor anual
S34: =T18 -> 161 | T34: 14 | U34: =S34*T34 -> 2254 | V34: =U34*S6 -> 27048
A35: Subtotal 2 | U35: =SUM(U19:U34) -> 130263.4 | V35: =SUM(V19:V34) -> 1563160.8
A37: TOTAL- Somatório do Subtotal 1 e do Subtotal 2 | U37: =U18+U35 -> 1409564.3 | V37: =V18+V35 -> 16914772
U40: =V37*0.05 -> 845738.58

Sheet AA AT HORAS
D9: PLANILHA DE HORAS NO PERÍODO DE 01/10/2022 A 30/09/2023 | M9: CÁLCULO AUXÍLIO-ALIMENTAÇÃO
D10: MÊS | E10: Quantidade de dias da Semana | I10: Feriados forenses no período | J10: Quantidade de horas úteis no mês | M10: Posto de trabalho | P10: Valor Unitário (R$) | Q10: % de subsídio PAT ou CCT(*) | R10: Dias Úteis | S10: Valor anual do auxílio- alimentação (R$) | T10: Valor estimado mensal (R$)
E11: Nº de Segundas a Quintas | F11: Nº de Sextas | G11: Nº de Sábados | H11: Nº de Domingos e Feriados | J11: 44 horas Semanais | Q11: 0.02
D12: 44835 | E12: 16 | F12: 3 | G12: 5 | H12: 6 | I12: 1 | J12: 168
D13: 44866 | E13: 15 | F13: 4 | G13: 4 | H13: 6 | I13: 1 | J13: 167 | M13: =$D$32 -> VIGILÂNCIA - 12x36hs | P13: 42.63 | Q13: =(P13)-(P13*Q$11) -> 41.7774 | R13: =R38 -> 182 | S13: =Q13*R13 -> 7603.4868 | T13: =S13/12 -> 633.6239
D14: 44896 | E14: 16 | F14: 5 | G14: 5 | H14: 4 | I14: 1 | J14: 184 | M14: =$D$33 -> VIGILÂNCIA - 44hs | P14: =P13 -> 42.63 | Q14: =(P14)-(P14*Q$11) -> 41.7774 | R14: =$E$25 -> 244 | S14: =Q14*R14 -> 10193.686 | T14: =S14/12 -> 849.4738
D15: 44927 | E15: 18 | F15: 4 | G15: 4 | H15: 5 | I15: 0 | J15: 194 | M15: =$D$34 -> SUPERVISÃO - 12x36hs | P15: =P13 -> 42.63 | Q15: =(P15)-(P15*Q$11) -> 41.7774 | R15: =R38 -> 182 | S15: =Q15*R15 -> 7603.4868 | T15: =S15/12 -> 633.6239
D16: 44958 | E16: 14 | F16: 4 | G16: 4 | H16: 5 | I16: 1 | J16: 158 | M16: * 2%, conforme Parágrafo Segundo da Cláusula Décima Segunda da CCT.
D17: 44986 | E17: 18 | F17: 5 | G17: 4 | H17: 4 | I17: 0 | J17: 202
D18: 45017 | E18: 14 | F18: 2 | G18: 5 | H18: 7 | I18: 2 | J18: 142
D19: 45047 | E19: 18 | F19: 4 | G19: 4 | H19: 5 | I19: 0 | J19: 194 | P19: CÁLCULO DO VALOR DA HORA
D20: 45078 | E20: 16 | F20: 5 | G20: 4 | H20: 5 | I20: 0 | J20: 184 | P20: Postos de Trabalho | R20: Total unitário mensal do posto de trabalho | S20: Divisor | T20: Valor da Hora
D21: 45108 | E21: 17 | F21: 4 | G21: 5 | H21: 5 | I21: 0 | J21: 185
D22: 45139 | E22: 19 | F22: 3 | G22: 4 | H22: 4 | I22: 1 | J22: 195 | P22: =D32 -> VIGILÂNCIA - 12x36hs | Q22: Diurno | R22: =Planilha_Custos!R8 -> 7530.3344 | S22: 220 | T22: =R22/S$22 -> 34.228793
D23: 45170 | E23: 15 | F23: 5 | G23: 5 | H23: 5 | I23: 0 | J23: 175 | Q23: Diurno - Anexo III | R23: =Planilha_Custos!R9 -> 8084.9595 | T23: =R23/S$22 -> 36.749816
E24: =SUM(E12:E23) -> 196 | F24: =SUM(F12:F23) -> 48 | G24: =SUM(G12:G23) -> 53 | H24: =SUM(H12:H23) -> 61 | Q24: Noturno - Anexo III | R24: =Planilha_Custos!R10 -> 8879.2786 | T24: =R24/S$22 -> 40.360357
D25: DIAS ÚTEIS | E25: =SUM(E24:F24) -> 244 | Q25: Noturno | R25: =Planilha_Custos!R11 -> 8264.1546 | T25: =R25/S$22 -> 37.564339
D26: TOTAL DE HORAS DE FUNCIONAMENTO NO PERÍODO | J26: =SUM(J12:J23) -> 2148 | P26: =D33 -> VIGILÂNCIA - 44hs | Q26: Diurno | R26: =Planilha_Custos!R14 -> 7865.7034 | T26: =R26/S$22 -> 35.753197
P27: =D34 -> SUPERVISÃO - 12x36hs | Q27: Diurno | R27: =Planilha_Custos!R16 -> 9512.947 | T27: =R27/S$22 -> 43.240668
D28: CÁLCULO DO CUSTO DO AUXÍLIO-TRANSPORTE | Q28: Noturno | R28: =Planilha_Custos!R17 -> 10465.681 | T28: =R28/S$22 -> 47.571279
D29: Posto de trabalho | G29: Salário | H29: 12 meses (12 * salário) | I29: Dias úteis no ano | J29: Resultado (12 meses / dias úteis) | K29: 0.06 | L29: Dias Trabalhados no ano | M29: Participação funcionário (anual)
K30: x resultado
D32: VIGILÂNCIA - 12x36hs | G32: =Planilha_Custos!F8 -> 2450.39 | H32: =G32*12 -> 29404.68 | I32: =R38 -> 182 | J32: =H32/I32 -> 161.56418 | K32: =J32*$K$29 -> 9.6938505 | L32: =R38 -> 182 | M32: =K32*L32 -> 1764.2808
D33: VIGILÂNCIA - 44hs | G33: =Planilha_Custos!F14 -> 2450.39 | H33: =G33*12 -> 29404.68 | I33: =$E$25 -> 244 | J33: =H33/I33 -> 120.51098 | K33: =J33*$K$29 -> 7.230659 | L33: =$E$25 -> 244 | M33: =K33*L33 -> 1764.2808
D34: SUPERVISÃO - 12x36hs | G34: =Planilha_Custos!F16 -> 2939.18 | H34: =G34*12 -> 35270.16 | I34: =R38 -> 182 | J34: =H34/I34 -> 193.79209 | K34: =J34*$K$29 -> 11.627525 | L34: =R38 -> 182 | M34: =K34*L34 -> 2116.2096
D36: Posto de trabalho | G36: Valor unitário do vale | H36: Quantidade diária | I36: Dias úteis no ano | J36: Resultado | K36: Participação funcionário (anual) | L36: Participação empresa (anual) | M36: Participação empresa (mensal)
P37: Planilha de Horas - Postos 12x36hs
P38: Dias úteis por ano | R38: 182
D39: =$D$32 -> VIGILÂNCIA - 12x36hs | G39: 5.5 | H39: 2 | I39: =R38 -> 182 | J39: =G39*H39*I39 -> 2002 | K39: =M32 -> 1764.2808 | L39: =IF(J39-K39<=0,0,J39-K39) -> 237.7192 | M39: =L39/12 -> 19.809933 | P39: Horas trabalhadas no período | R39: =R38*Planilha_Custos!S6 -> 2184
D40: =$D$33 -> VIGILÂNCIA - 44hs | G40: 5.5 | H40: 2 | I40: =$E$25 -> 244 | J40: =G40*H40*I40 -> 2684 | K40: =M33 -> 1764.2808 | L40: =IF(J40-K40<=0,0,J40-K40) -> 919.7192 | M40: =L40/12 -> 76.643267
D41: =$D$34 -> SUPERVISÃO - 12x36hs | G41: 5.5 | H41: 2 | I41: =R38 -> 182 | J41: =G41*H41*I41 -> 2002 | K41: =M34 -> 2116.2096 | L41: =IF(J41-K41<=0,0,J41-K41) -> 0 | M41: =L41/12 -> 0
D43: Observações:
D44: 1. No posto de trabalho 12x36hs, em 1 semana o profissional trabalha 3 dias (36 horas) e na outra trabalha 4 dias (48 horas) e assim alternadamente.
D45: 2. Um ano possui 52 semanas. Durante 26 semanas (metade de 52 semanas), o profissional locado no posto de trabalho 12x36 trabalhará 36 horas por semana, totalizando 936 horas no período.
D46: 3. Para as outras 26 semanas no ano, o profissional trabalhará 48 horas por semana, totalizando 1.248 horas no período, assim, durante 1 ano o ocupante do posto de trabalho 12X36 trabalhará 182 dias, correspondendo a 2.184 horas. | P46: Adicional Noturno de 20% conforme CCT
D47: 4. Para o valor Unitário do Vale Transporte, foi levado em consideração o preço praticado em Brasília, devendo a empresa aplicar o valor correspondente à sua realidade, no entanto, deverá ser observada a metodologia de cálculo constante na planilha de formação de preços, cuja comprovação deverá ser comprovada quando do encaminhamento da proposta vencedora. | P47: Posto | Q47: Remuneração (R$) | R47: Percentual de Acréscimo 20% | S47: Qtd. de horas noturnas | T47: Dias no mês | U47: Valor do Adicional noturno mensal (R$)
P48: =D32 -> VIGILÂNCIA - 12x36hs | Q48: =Planilha_Custos!F11+Planilha_Custos!G11 -> 3185.51 | R48: 0.2 | S48: 8 | T48: 15 | U48: =((Q48/220)*R48)*S48*T48 -> 347.51018
P49: =D34 -> SUPERVISÃO - 12x36hs | Q49: =Planilha_Custos!F17+Planilha_Custos!G17 -> 3820.94 | R49: 0.2 | S49: 8 | T49: 15 | U49: =((Q49/220)*R49)*S49*T49 -> 416.82982
P51: Pagamento de intrajornada (Anexo III)
P52: Posto | Q52: Remuneração (R$) | R52: Qnt. Profissionais | S52: Valor da hora (R$) | T52: Dias no mês | U52: Valor do intrajornada mensal (R$)
...

Sheet Encargos Sociais
B2: PLANILHA DE COMPOSIÇÃO DOS PERCENTUAIS
B3: MÁXIMOS DE ENCARGOS SOCIAIS | G3: CUSTOS INDIRETOS, TRIBUTOS E LUCRO - CITL
B4: Item | C4: Título | D4: RAT / FAP (*) PODERÁ SER ALTERADO | G4: TRIBUTAÇÃO | J4: Cumulativa
D5: 0.03 | E5: 2
B6: Módulo "A" | D6: % | G6: DESCRIÇÃO | J6: %
B7: 1 | C7: PREVIDÊNCIA SOCIAL - PODERÁ SER ALTERADO | D7: 0.2 | G7: CUSTOS INDIRETOS* | I7: A | J7: 0.05
B8: 2 | C8: SESI / SESC - NÃO PODERÁ SER ALTERADO | D8: 0.015 | G8: LUCRO* | I8: B | J8: 0.07
B9: 3 | C9: SENAI / SENAC - NÃO PODERÁ SER ALTERADO | D9: 0.01 | G9: TRIBUTOS - SOMATÓRIO: | I9: C | J9: =SUM(J10:J13) -> 0.0865
B10: 4 | C10: INCRA - NÃO PODERÁ SER ALTERADO | D10: 0.002 | I10: ISS | J10: 0.05
B11: 5 | C11: SALÁRIO EDUCAÇÃO - NÃO PODERÁ SER ALTERADO | D11: 0.025 | I11: COFINS | J11: 0.03
B12: 6 | C12: F G T S - NÃO PODERÁ SER ALTERADO | D12: 0.08 | I12: PIS | J12: 0.0065
B13: 7 | C13: RISCO ACIDENTE DE TRABALHO AJUSTADO (**) | D13: =D5*E5 -> 0.06 | I13: CPRB** | J13: 0
B14: 8 | C14: SEBRAE - NÃO PODERÁ SER ALTERADO | D14: 0.006 | G14: TOTAL DO CITL | J14: =(((1+J7)*(1+J8))/(1-J9))-1 -> 0.22988506
B15: Total do Módulo "A" | D15: =SUM(D7:D14) -> 0.398 | G15: Fórmula do citl
B16: Módulo B | D16: %
D17: 1º Ano | E17: A partir do 2º ano
B18: 9 | C18: 13º SALÁRIO - NÃO PODERÁ SER ALTERADO (***) | D18: 0.0833 | E18: 0.0909 | G18: Onde:
B19: 10 | C19: FÉRIAS - NÃO PODERÁ SER ALTERADO (***) | D19: 0.0833 | E19: 0.0909 | G19: A = Custos indiretos;
B20: 11 | C20: ABONO DE FÉRIAS - NÃO PODERÁ SER ALTERADO (***) | D20: 0.0278 | E20: 0.0303 | G20: B = Lucro; e
B21: 12 | C21: AUXÍLIO DOENÇA - PODERÁ SER ALTERADO | D21: 0.0139 | G21: C = Tributos - somatório
B22: 13 | C22: LICENÇA PATERNIDADE - PODERÁ SER ALTERADO | D22: 0.0002 | G22: *Incluem custo com salário, encargos e auxílios do preposto
B23: 14 | C23: FALTAS LEGAIS - PODERÁ SER ALTERADO | D23: 0.0028 | G23: **Contribuição Previdenciária sobre a Receita Bruta - lei 12.546/2011
B24: 15 | C24: ACIDENTE DO TRABALHO - PODERÁ SER ALTERADO | D24: 0.0003
B25: Total do Módulo "B" | D25: =ROUNDDOWN((SUM(D18:D20)+SUM(D21:E24)),4) -> 0.2116 | E25: =SUM(E18:E20)+SUM(D21:E24) -> 0.2293 | G25: CONTA-DEPÓSITO VINCULADA - BLOQUEADA PARA MOVIMENTAÇÃO
B26: Módulo C | D26: % | G26: Item | J26: 1º Ano | K26: A partir do 2º ano
B27: 16 | C27: AVISO PRÉVIO INDENIZADO - PODERÁ SER ALTERADO | D27: 0.0042 | G27: Módulo "A" | J27: =D15 -> 0.398 | K27: =D15 -> 0.398
B28: 17 | C28: AVISO PRÉVIO - PODERÁ SER ALTERADO | D28: 0.0004 | G28: Título | J28: %
B29: 18 | C29: INDENIZAÇÃO ADICIONAL - PODERÁ SER ALTERADO | D29: 0.0008 | G29: 13º salário | J29: =D18 -> 0.0833 | K29: =E18 -> 0.0909
B30: 19 | C30: FGTS RECISÕES SEM JUSTA CAUSA - PODERÁ SER ALTERADO | D30: 0.0288 | G30: Férias | J30: =D19 -> 0.0833 | K30: =E19 -> 0.0909
B31: Total do Módulo "C" | D31: =SUM(D27:D30) -> 0.0342 | G31: Subtotal | J31: =SUM(J29:J30) -> 0.1666 | K31: =SUM(K29:K30) -> 0.1818
B32: Módulo D | D32: %
B33: 20 | C33: INCIDÊNCIA DE A SOBRE B | D33: =D15*(D25-D20) -> 0.0731524 | E33: =D15*(E25-E20) -> 0.079202 | G33: Incidência Módulo "A" | J33: =J27*J31 -> 0.0663068 | K33: =K27*K31 -> 0.0723564
B34: Total do Módulo "D" | D34: =SUM(D33) -> 0.0731524 | E34: =SUM(E33) -> 0.079202 | G34: Abono férias | J34: =D20 -> 0.0278 | K34: =E20 -> 0.0303
B35: TOTAL DOS ENCARGOS SOCIAIS | D35: 1º Ano | E35: A partir do 2º ano | G35: FGTS Recisões sem Justa Causa | J35: =D30 -> 0.0288 | K35: =D30 -> 0.0288
D36: =ROUNDDOWN((D15+D25+D31+D34),5) -> 0.71695 | E36: =(D15+E25+D31+E34) -> 0.740702 | G36: A CONTINGENCIAR | J36: =SUM(J31:J35) -> 0.2895068 | K36: =SUM(K31:K35) -> 0.3132564
B37: (*) Risco Acidente de Trabalho / Fator Acidentário de Prevenção
B38: (**) Variação das alíquotas de 0,5% a 6% de RAT, devido a incidência do FAP
B39: (***) Em caso de ausência de cobertura de férias, deverá ser alterado o divisor para 11 meses, à partir do segundo ano do contrato

Sheet Anx II-B Uniformes
A3: UNIFORME MASCULINO (a serem fornecidos conforme especificação do Termo de Referência)
A4: Item | B4: N. de Peças que Compõem o Conjunto de Uniforme | C4: Descrição do uniforme | D4: Qtd. Máxima Anual | E4: Valor unitário máximo admitido (R$) | F4: Valor total máximo admitido (R$) | G4: Valor máxímo admitido no período de 12 meses (R$)
A5: 1 | B5: 2 | C5: Terno completo - composto de 1 (um) Paletó e 1 (uma) Calça | D5: 322 | E5: 750 | F5: =E5*B5 -> 1500 | G5: =E5*D5 -> 241500
A6: 2 | B6: 2 | C6: Camisa social | D6: 322 | E6: 230 | F6: =E6*B6 -> 460 | G6: =E6*D6 -> 74060
A7: 3 | B7: 1 | C7: Gravata social | D7: 161 | E7: 130 | F7: =E7*B7 -> 130 | G7: =E7*D7 -> 20930
A8: 4 | B8: 1 | C8: Cinto social | D8: 161 | E8: 130 | F8: =E8*B8 -> 130 | G8: =E8*D8 -> 20930
A9: 5 | B9: 2 | C9: Meia social - Par | D9: 322 | E9: 35 | F9: =E9*B9 -> 70 | G9: =E9*D9 -> 11270
A10: 6 | B10: 2 | C10: Sapato social - Par | D10: 322 | E10: 450 | F10: =E10*B10 -> 900 | G10: =E10*D10 -> 144900
A11: 7 | B11: 1 | C11: Japona | D11: 161 | E11: 350 | F11: =E11*B11 -> 350 | G11: =E11*D11 -> 56350
A12: TOTAL MÁXIMO ADMITIDO | F12: =SUM(F5:F11) -> 3540 | G12: =SUM(G5:G11) -> 569940
A14: UNIFORME FEMININO (a serem fornecidos conforme especificação do Termo de Referência)
A15: 8 | B15: 2 | C15: Terno completo feminino - composto de 1 (um) blazer e 1 (uma) calça | D15: 322 | E15: 650 | F15: =E15*B15 -> 1300 | G15: =E15*D15 -> 209300
A16: 9 | B16: 2 | C16: Camisa social feminina | D16: 322 | E16: 220 | F16: =E16*B16 -> 440 | G16: =E16*D16 -> 70840
A17: 10 | B17: 1 | C17: Cinto social feminino | D17: 161 | E17: 150 | F17: =E17*B17 -> 150 | G17: =E17*D17 -> 24150
A18: 11 | B18: 2 | C18: Meia calça - Par | D18: 322 | E18: 45 | F18: =E18*B18 -> 90 | G18: =E18*D18 -> 14490
A19: 12 | B19: 2 | C19: Sapato social feminino - Par | D19: 322 | E19: 450 | F19: =E19*B19 -> 900 | G19: =E19*D19 -> 144900
A20: 13 | B20: 1 | C20: Japona | D20: 161 | E20: 350 | F20: =E20*B20 -> 350 | G20: =E20*D20 -> 56350
A21: TOTAL MÁXIMO ADMITIDO | F21: =SUM(F15:F20) -> 3230 | G21: =SUM(G15:G20) -> 520030
A23: UNIFORME OPERACIONAL (a serem fornecidos conforme especificação do Termo de Referência)
A24: 14 | B24: 1 | C24: Boné | D24: 161 | E24: 60 | F24: =E24*B24 -> 60 | G24: =E24*D24 -> 9660
A25: 15 | B25: 2 | C25: Coturno | D25: 322 | E25: 420 | F25: =E25*B25 -> 840 | G25: =E25*D25 -> 135240
A26: 16 | B26: 2 | C26: Calça Operacional | D26: 322 | E26: 240 | F26: =E26*B26 -> 480 | G26: =E26*D26 -> 77280
A27: 17 | B27: 2 | C27: Camisa Operacional | D27: 322 | E27: 250 | F27: =E27*B27 -> 500 | G27: =E27*D27 -> 80500
A28: 18 | B28: 1 | C28: Japona | D28: 161 | E28: 350 | F28: =E28*B28 -> 350 | G28: =E28*D28 -> 56350
A29: 19 | B29: 2 | C29: Meia Operacional - Par | D29: 322 | E29: 39 | F29: =E29*B29 -> 78 | G29: =E29*D29 -> 12558
A30: 20 | B30: 1 | C30: Cinto Tático | D30: 161 | E30: 90 | F30: =E30*B30 -> 90 | G30: =E30*D30 -> 14490
A31: 21 | B31: 1 | C31: Capa de Chuva | D31: 161 | E31: 147 | F31: =E31*B31 -> 147 | G31: =E31*D31 -> 23667
A32: 22 | B32: 1 | C32: Capa de Colete | D32: 161 | E32: 389 | F32: =E32*B32 -> 389 | G32: =E32*D32 -> 62629
A33: TOTAL MÁXIMO ADMITIDO | F33: =SUM(F24:F32) -> 2934 | G33: =SUM(G24:G32) -> 472374

Sheet Anx II-C Mat.Equip
A3: MATERIAIS E EQUIPAMENTOS NECESSÁRIOS PARA A PRESTAÇÃO DOS SERVIÇOS
A4: (a serem fornecidos conforme especificação do Termo de Referência)
A5: Item | B5: ESPECIFICAÇÃO | C5: Marca/Modelo de Referência | D5: Unid. | E5: Qtd. Estimada | F5: Valor unitário máximo admitido (R$) | G5: Valor máxímo admitido no período de 12 meses (R$)
A6: 1 | B6: Lanterna recarregável | C6: Lanterna tática, LED, corpo em alumínio, com clip, zoom, strobo, coldre, sinalizador noturno para rosquear na ponta da lanterna, recarregável | D6: unid. | E6: 161 | F6: 62.88 | G6: =E6*F6 -> 10123.68
A7: 2 | B7: Livro de ocorrências | C7: Livro pautado, com capa dura, na cor preta. | D7: unid. | E7: 161 | F7: 21.1 | G7: =E7*F7 -> 3397.1
A8: 3 | B8: Coldre | C8: Coldre para revolver calibre 38, 6 tiros, cano com 4 polegadas | D8: unid. | E8: 17 | F8: 60.98 | G8: =E8*F8 -> 1036.66
A9: 4 | B9: Porta Carregador (munição) | C9: Porta carregador simples, em cordura para ser fixado no item 5. | D9: unid. | E9: 17 | F9: 57.9 | G9: =E9*F9 -> 984.3
A10: 5 | B10: Cinto para armamento | C10: Cinto sem furos, em cordura, fecho em velcro com passador e fivelas na cor preta. | D10: unid. | E10: 17 | F10: 99.65 | G10: =E10*F10 -> 1694.05
A11: 6 | B11: Fones de Ouvido | C11: Fones de ouvido giratório com microfone e PTT no fio, para rádio Motorola DTR 720, modelo HKLN4604. | D11: unid. | E11: 340 | F11: 26 | G11: =E11*F11 -> 8840
A12: 7 | B12: Spray não letal | C12: Spray não letal à base de óleos/extratos vegetais - Marca/Modelo: knockout. | D12: unid. | E12: 30 | F12: 109 | G12: =E12*F12 -> 3270
A13: Valor máximo admitido | G13: =SUM(G6:G12) -> 29345.79

Sheet Anx II-D Equipamentos
B5: EQUIPAMENTOS DEPRECIÁVEIS NECESSÁRIOS PARA A PRESTAÇÃO DOS SERVIÇOS (a serem fornecidos conforme especificação do Termo de Referência)
B6: Item | C6: Qtd. | D6: Descrição | E6: Prazo de vida útil (anos) | F6: Taxa anual de depreciação | G6: Valor unitário máximo admitido (R$) | H6: Valor total máximo admitido (R$) | I6: Valor máximo anual a ser ressarcido, considerando a depreciação (R$)
B7: 1 | C7: 170 | D7: Rádio Transceptor Digital Portátil Bidirecional. | E7: 5 | F7: 0.2 | G7: 2580 | H7: =G7*C7 -> 438600 | I7: =H7/E7 -> 87720
B8: 2 | C8: 1 | D8: Repetidora de rádio (incluindo instalação, configuração inicial e software de gerenciamento). | E8: 5 | F8: 0.2 | G8: 54250 | H8: =G8*C8 -> 54250 | I8: =H8/E8 -> 10850
B9: 3 | C9: 17 | D9: Revólver calibre 38, 6 tiros, cano com 4 polegadas e cor oxidado | E9: 10 | F9: 0.1 | G9: 4800 | H9: =G9*C9 -> 81600 | I9: =H9/E9 -> 8160
B10: 4 | C10: 50 | D10: Colete balístico | E10: 10 | F10: 0.1 | G10: 359.99 | H10: =G10*C10 -> 17999.5 | I10: =H10/E10 -> 1799.95
B11: 5 | C11: 510 | D11: Munição simples compatível com revólver calibre 38, 6 tiros, cano com 4 polegadas e cor oxidado. | E11: 1 | F11: 1 | G11: 11 | H11: =G11*C11 -> 5610 | I11: =H11/E11 -> 5610
B12: 6 | C12: 10 | D12: SPARK Kit elite do dispositivo elétrico incapacitante SPARK Z 2.0 | E12: 10 | F12: 0.1 | G12: 8638.81 | H12: =G12*C12 -> 86388.1 | I12: =H12/E12 -> 8638.81
B13: VALOR TOTAL MÁXIMO ADMITIDO A SER RESSARCIDO, CONSIDERANDO A DEPRECIAÇÃO DO EQUIPAMENTO | I13: =SUM(I7:I12) -> 122778.76

Sheet Cálculo Cobertura
B3: CÁLCULO DO PROFISSIONAL DE COBERTURA
B5: Postos de Trabalho | C5: MONTANTE "A" | I5: MONTANTE "B" | L5: Somatório Montantes "A" e "B" | M5: CITL Calculado sobre o somatório dos Montantes "A" e "B" | N5: Total unitário mensal do posto de trabalho | O5: Valor diário do cobertura | P5: Valor da hora do cobertura
C6: Salário | D6: 13º Salário | E6: Férias | F6: Abono de férias | G6: Incidência do Módulo A sobre 13º Salário e Férias | H6: Total unitário Montante "A" | I6: Auxílio-Alimentação | J6: Auxílio-transporte - parte da empresa | K6: Total unitário Montante "B"
D9: ='Encargos Sociais'!D18 -> 0.0833 | E9: ='Encargos Sociais'!D19 -> 0.0833 | F9: ='Encargos Sociais'!D20 -> 0.0278 | G9: ='Encargos Sociais'!D15 -> 0.398 | I9: Valor Mensal | J9: Valor Mensal | M9: ='Encargos Sociais'!J14 -> 0.22988506
B10: VIGILÂNCIA - 12x36hs - Diurno | C10: =Planilha_Custos!J8 -> 3185.51 | D10: =C10*$D$9 -> 265.35298 | E10: =C10*$E$9 -> 265.35298 | F10: =$F$9*C10 -> 88.557178 | G10: =($G$9*D10)+(E10*$G$9) -> 211.22097 | H10: =C10+D10+F10+G10+E10 -> 4015.9941 | I10: ='AA AT HORAS'!T13 -> 633.6239 | J10: ='AA AT HORAS'!M$39 -> 19.809933 | K10: =I10+J10 -> 653.43383 | L10: =H10+K10 -> 4669.428 | M10: =L10*$M$9 -> 1073.4317 | N10: =L10+M10 -> 5742.8597 | O10: =N10/30 -> 191.42866 | P10: =N10/'AA AT HORAS'!S$22 -> 26.103908
B11: VIGILÂNCIA - 12x36hs - Noturno | C11: =Planilha_Custos!J11 -> 3533.0202 | D11: =C11*$D$9 -> 294.30058 | E11: =C11*$E$9 -> 294.30058 | F11: =$F$9*C11 -> 98.217961 | G11: =($G$9*D11)+(E11*$G$9) -> 234.26326 | H11: =C11+D11+F11+G11+E11 -> 4454.1026 | I11: ='AA AT HORAS'!T13 -> 633.6239 | J11: ='AA AT HORAS'!M$39 -> 19.809933 | K11: =I11+J11 -> 653.43383 | L11: =H11+K11 -> 5107.5364 | M11: =L11*$M$9 -> 1174.1463 | N11: =L11+M11 -> 6281.6827 | O11: =N11/30 -> 209.38942 | P11: =N11/'AA AT HORAS'!S$22 -> 28.553103
B12: VIGILÂNCIA - 12x36hs - Diurno - Anex. III | C12: =Planilha_Custos!J9 -> 3448.16 | D12: =C12*$D$9 -> 287.23173 | E12: =C12*$E$9 -> 287.23173 | F12: =$F$9*C12 -> 95.858848 | G12: =($G$9*D12)+(E12*$G$9) -> 228.63646 | H12: =C12+D12+F12+G12+E12 -> 4347.1188 | I12: ='AA AT HORAS'!T13 -> 633.6239 | J12: ='AA AT HORAS'!M$39 -> 19.809933 | K12: =I12+J12 -> 653.43383 | L12: =H12+K12 -> 5000.5526 | M12: =L12*$M$9 -> 1149.5523 | N12: =L12+M12 -> 6150.1049 | O12: =N12/30 -> 205.0035 | P12: =N12/'AA AT HORAS'!S$22 -> 27.955022
B13: VIGILÂNCIA - 12x36hs - Noturno - Anex. III | C13: =Planilha_Custos!J10 -> 3824.3202 | D13: =C13*$D$9 -> 318.56587 | E13: =C13*$E$9 -> 318.56587 | F13: =$F$9*C13 -> 106.3161 | G13: =($G$9*D13)+(E13*$G$9) -> 253.57843 | H13: =C13+D13+F13+G13+E13 -> 4821.3465 | I13: ='AA AT HORAS'!T13 -> 633.6239 | J13: ='AA AT HORAS'!M$39 -> 19.809933 | K13: =I13+J13 -> 653.43383 | L13: =H13+K13 -> 5474.7803 | M13: =L13*$M$9 -> 1258.5702 | N13: =L13+M13 -> 6733.3505 | O13: =N13/30 -> 224.44502 | P13: =N13/'AA AT HORAS'!S$22 -> 30.606139
B14: VIGILÂNCIA - 44hs - Diurno | C14: =Planilha_Custos!J14 -> 3185.51 | D14: =C14*$D$9 -> 265.35298 | E14: =C14*$E$9 -> 265.35298 | F14: =$F$9*C14 -> 88.557178 | G14: =($G$9*D14)+(E14*$G$9) -> 211.22097 | H14: =C14+D14+F14+G14+E14 -> 4015.9941 | I14: ='AA AT HORAS'!T14 -> 849.4738 | J14: ='AA AT HORAS'!M40 -> 76.643267 | K14: =I14+J14 -> 926.11707 | L14: =H14+K14 -> 4942.1112 | M14: =L14*$M$9 -> 1136.1175 | N14: =L14+M14 -> 6078.2287 | O14: =N14/30 -> 202.60762 | P14: =N14/'AA AT HORAS'!S$22 -> 27.628312
B15: SUPERVISÃO - 12x36hs - Diurno | C15: =Planilha_Custos!J16 -> 4135.94 | D15: =C15*$D$9 -> 344.5238 | E15: =C15*$E$9 -> 344.5238 | F15: =$F$9*C15 -> 114.97913 | G15: =($G$9*D15)+(E15*$G$9) -> 274.24095 | H15: =C15+D15+F15+G15+E15 -> 5214.2077 | I15: ='AA AT HORAS'!T15 -> 633.6239 | J15: ='AA AT HORAS'!M41 -> 0 | K15: =I15+J15 -> 633.6239 | L15: =H15+K15 -> 5847.8316 | M15: =L15*$M$9 -> 1344.3291 | N15: =L15+M15 -> 7192.1607 | O15: =N15/30 -> 239.73869 | P15: =N15/'AA AT HORAS'!S$22 -> 32.691639
B16: SUPERVISÃO - 12x36hs - Noturno | C16: =Planilha_Custos!J17 -> 4587.1198 | D16: =C16*$D$9 -> 382.10708 | E16: =C16*$E$9 -> 382.10708 | F16: =$F$9*C16 -> 127.52193 | G16: =($G$9*D16)+(E16*$G$9) -> 304.15724 | H16: =C16+D16+F16+G16+E16 -> 5783.0131 | I16: ='AA AT HORAS'!T15 -> 633.6239 | J16: ='AA AT HORAS'!M41 -> 0 | K16: =I16+J16 -> 633.6239 | L16: =H16+K16 -> 6416.637 | M16: =L16*$M$9 -> 1475.089 | N16: =L16+M16 -> 7891.726 | O16: =N16/30 -> 263.05753 | P16: =N16/'AA AT HORAS'!S$22 -> 35.871482
